BEGIN:VCALENDAR
VERSION:2.0
PRODID:-//Trojka - ECPv5.6.0//NONSGML v1.0//EN
CALSCALE:GREGORIAN
METHOD:PUBLISH
X-WR-CALNAME:Trojka
X-ORIGINAL-URL:https://swingers3.cz
X-WR-CALDESC:Akce na Trojka
BEGIN:VTIMEZONE
TZID:Europe/Prague
BEGIN:DAYLIGHT
TZOFFSETFROM:+0100
TZOFFSETTO:+0200
TZNAME:CEST
DTSTART:20260329T010000
END:DAYLIGHT
BEGIN:STANDARD
TZOFFSETFROM:+0200
TZOFFSETTO:+0100
TZNAME:CET
DTSTART:20261025T010000
END:STANDARD
END:VTIMEZONE
BEGIN:VEVENT
DTSTART;TZID=Europe/Prague:20260425T080000
DTEND;TZID=Europe/Prague:20260426T090000
DTSTAMP:20260423T132014
CREATED:20220630T015035Z
LAST-MODIFIED:20260320T110156Z
UID:1377-1777104000-1777194000@swingers3.cz
SUMMARY:SOBOTNÍ SWINGERS PARTY
DESCRIPTION:Party je určena párům a samotným ženám.\nMnožství erotického nábytku a hraček vás přesvědčí\, že se nemusíte ptát kolik párů přijde\, protože čím víc párů přijde\, tím míň hraček a nábytku na vás zůstane.\nJsme IV cenová skupin\, takže knihu přání a stížností nemáme. Obsluhu docela slušně zásobeného baru si přivoláte písknutím\, luskáním prstů\, nebo jen prostým výkřikem ŽÍZEŇ\, nebo SAHARA.\nDress code je dobrovolný\, ale víte proč si chlapi prohlížejí modní katalog vždycky od konce? V šatně\, v uzamykatelné skříňce najdete ručník\, nebo osušku.\nPo akci nabízíme možnost přespání.\nPříspěvek 1200\,- je za pár.\nDodržujeme rozhodnou hodinku a hlady u nás určitě neumřete. Kdo si bude chtít na letní terase opéct špekáček musí mít vlastní prut. \nDíky zvyšující se návštěvnosti je vhodné se na akci registrovat
URL:https://swingers3.cz/akce/sobotni-swingers-party-jiz-plne-obsazeno/
ATTACH;FMTTYPE=image/png:https://swingers3.cz/wp-content/uploads/2019/02/logo-top-web2.png
END:VEVENT
END:VCALENDAR